BEGIN:VCALENDAR
VERSION:2.0
PRODID:-//Kloster Brandenburg Iller e.V. - ECPv6.15.20//NONSGML v1.0//EN
CALSCALE:GREGORIAN
METHOD:PUBLISH
X-ORIGINAL-URL:https://kloster-brandenburg.de
X-WR-CALDESC:Veranstaltungen für Kloster Brandenburg Iller e.V.
REFRESH-INTERVAL;VALUE=DURATION:PT1H
X-Robots-Tag:noindex
X-PUBLISHED-TTL:PT1H
BEGIN:VTIMEZONE
TZID:Europe/Berlin
BEGIN:DAYLIGHT
TZOFFSETFROM:+0100
TZOFFSETTO:+0200
TZNAME:CEST
DTSTART:20240331T010000
END:DAYLIGHT
BEGIN:STANDARD
TZOFFSETFROM:+0200
TZOFFSETTO:+0100
TZNAME:CET
DTSTART:20241027T010000
END:STANDARD
BEGIN:DAYLIGHT
TZOFFSETFROM:+0100
TZOFFSETTO:+0200
TZNAME:CEST
DTSTART:20250330T010000
END:DAYLIGHT
BEGIN:STANDARD
TZOFFSETFROM:+0200
TZOFFSETTO:+0100
TZNAME:CET
DTSTART:20251026T010000
END:STANDARD
BEGIN:DAYLIGHT
TZOFFSETFROM:+0100
TZOFFSETTO:+0200
TZNAME:CEST
DTSTART:20260329T010000
END:DAYLIGHT
BEGIN:STANDARD
TZOFFSETFROM:+0200
TZOFFSETTO:+0100
TZNAME:CET
DTSTART:20261025T010000
END:STANDARD
END:VTIMEZONE
BEGIN:VEVENT
DTSTART;TZID=Europe/Berlin:20250206T080000
DTEND;TZID=Europe/Berlin:20251215T170000
DTSTAMP:20260423T134703
CREATED:20250206T161336Z
LAST-MODIFIED:20251215T103417Z
UID:13297-1738828800-1765818000@kloster-brandenburg.de
SUMMARY:25/002 Naturseminare 2025
DESCRIPTION:Zusammenfassung der Naturseminare 2025 hier im  Flyer
URL:https://kloster-brandenburg.de/veranstaltung/25_002-naturseminare-2025/
ATTACH;FMTTYPE=image/png:https://kloster-brandenburg.de/wp-content/uploads/2025/02/25_002-Natur_zusammengefasst_Titelbild.png
END:VEVENT
BEGIN:VEVENT
DTSTART;TZID=Europe/Berlin:20250206T080000
DTEND;TZID=Europe/Berlin:20251215T170000
DTSTAMP:20260423T134703
CREATED:20250206T161841Z
LAST-MODIFIED:20251215T103626Z
UID:13302-1738828800-1765818000@kloster-brandenburg.de
SUMMARY:25/003 Trauerseminare 2025
DESCRIPTION:Zusammenfassung der Trauerseminare 2025 hier im  Flyer
URL:https://kloster-brandenburg.de/veranstaltung/25_003-trauerseminare-2025/
ATTACH;FMTTYPE=image/png:https://kloster-brandenburg.de/wp-content/uploads/2025/02/25_003-Trauer_zusammengefasst_Bild-1.png
END:VEVENT
BEGIN:VEVENT
DTSTART;TZID=Europe/Berlin:20250206T121700
DTEND;TZID=Europe/Berlin:20251215T121700
DTSTAMP:20260423T134703
CREATED:20250206T160401Z
LAST-MODIFIED:20251215T103301Z
UID:13293-1738844220-1765801020@kloster-brandenburg.de
SUMMARY:25/001 Pilgertage im Jahr 2025
DESCRIPTION:Zusammenfassung aller Pilgertage im Jahr 2025 siehe  Flyer
URL:https://kloster-brandenburg.de/veranstaltung/25_001-pilgertage-im-jahr-2025/
ATTACH;FMTTYPE=image/jpeg:https://kloster-brandenburg.de/wp-content/uploads/2024/11/25_27-Pilgern-fuer-Frauen_Stroppel-Hanne_Titelbild-scaled.jpg
END:VEVENT
BEGIN:VEVENT
DTSTART;TZID=Europe/Berlin:20251121T180000
DTEND;TZID=Europe/Berlin:20251123T130000
DTSTAMP:20260423T134703
CREATED:20241101T070053Z
LAST-MODIFIED:20250415T120420Z
UID:12448-1763748000-1763902800@kloster-brandenburg.de
SUMMARY:E25/66 - Werde neue Schöpfung! (vgl. 2 Kor 5\, 17)
DESCRIPTION:Leitung: P. Paulus Maria Tautz CFR – Werde neue Schöpfung! (vgl. 2 Kor 5\, 17) \nGott will in Jesus Christus alles erneuern. Er erwählt sich dazu durchschnittliche Männer\, um sie überdurchschnittlich fähig zu machen\, das Reich Gottes auf Erden zu erbauen. An diesem brüderlichen Wochenende wollen wir mehr über unsere besondere Sendung erfahren. Gott braucht uns Männer\, um Großes zu erreichen! \nWeitere Informationen entnehmen Sie bitte dem  Flyer
URL:https://kloster-brandenburg.de/veranstaltung/e25-66-werde-neue-schoepfung-vgl-2-kor-5-17/
LOCATION:Kloster Brandenburg\, Am Schlossberg 3\, 89165 Dietenheim-Regglisweiler\, Deutschland
CATEGORIES:Männerwochenende
ATTACH;FMTTYPE=image/png:https://kloster-brandenburg.de/wp-content/uploads/2024/11/25_66-Maennerwochenende_P.-Paulus-Tautz_Titelbild.png
END:VEVENT
BEGIN:VEVENT
DTSTART;TZID=Europe/Berlin:20251122T090000
DTEND;TZID=Europe/Berlin:20251122T130000
DTSTAMP:20260423T134703
CREATED:20241101T070001Z
LAST-MODIFIED:20250206T154245Z
UID:12452-1763802000-1763816400@kloster-brandenburg.de
SUMMARY:T25/68 - Letzte-Hilfe-Kurs - Kleines 1x1 der Sterbebegleitung
DESCRIPTION:Leitung: Mitarbeiter der Hospizgruppe Iller-Weihung – Letzte-Hilfe-Kurs – Kleines 1×1 der Sterbebegleitung \nIn diesem Letzte-Hilfe-Kurs lernen Interessierte\, was sie für die ihnen Nahestehenden am Ende des Lebens tun können. Wir vermitteln Basiswissen und Orientierung sowie einfache Handgriffe. Sterbebegleitung ist keine Wissenschaft\, sondern ist auch in Familie und Nachbarschaft möglich. \nWeitere Informationen entnehmen Sie bitte aus dem  Flyer
URL:https://kloster-brandenburg.de/veranstaltung/t25-68-letzte-hilfe-kurs-kleines-1x1-der-sterbebegleitung/
LOCATION:Kloster Brandenburg\, Am Schlossberg 3\, 89165 Dietenheim-Regglisweiler\, Deutschland
CATEGORIES:Forum Hospiz,Interessierte aller Altersklassen,Seminare mit Schwerpunktthemen,Trauer
ATTACH;FMTTYPE=image/png:https://kloster-brandenburg.de/wp-content/uploads/2024/11/25_4-Letzte-Hilfe-Seminar_Hospizgruppe_Titelbild.png
END:VEVENT
BEGIN:VEVENT
DTSTART;TZID=Europe/Berlin:20251122T090000
DTEND;TZID=Europe/Berlin:20251122T170000
DTSTAMP:20260423T134703
CREATED:20241101T070017Z
LAST-MODIFIED:20250415T121342Z
UID:12450-1763802000-1763830800@kloster-brandenburg.de
SUMMARY:E25/67 - Carlo Acutis\, ein Jugendlicher erobert die Menschen für Jesus Christus und die Kirche
DESCRIPTION:Leitung: Pfr. Tobias Brantl – Carlo Acutis\, ein Jugendlicher erobert die Menschen für Jesus Christus und die Kirche \nDie Gläubigen suchen Personen und Gesichter – und der Herzbube ist Trumpf\, weil der Sympathieträger Carlo Acutis all das verkörpert\, was den Gläubigen in unpersönlichen Strukturdebatten abgeht: Wärme\, persönliche Beziehung\, ein Vorbild mit innerem Feuer für Christus. \nWeitere Information entnehmen Sie bitte dem  Flyer
URL:https://kloster-brandenburg.de/veranstaltung/e25-67-carlo-acutis-ein-jugendlicher-erobert-die-menschen-fuer-jesus-christus-und-die-kirche/
LOCATION:Kloster Brandenburg\, Am Schlossberg 3\, 89165 Dietenheim-Regglisweiler\, Deutschland
CATEGORIES:Einkehrtag,Interessierte aller Altersklassen,Tagesveranstaltung
ATTACH;FMTTYPE=image/png:https://kloster-brandenburg.de/wp-content/uploads/2024/11/25_67-Carlo-Acutis_Pfr.-Tobias-Brantl_Einkehrtag_Titelbild.png
END:VEVENT
END:VCALENDAR