BEGIN:VCALENDAR
VERSION:2.0
PRODID:-//Kloster Brandenburg Iller e.V. - ECPv6.15.20//NONSGML v1.0//EN
CALSCALE:GREGORIAN
METHOD:PUBLISH
X-WR-CALNAME:Kloster Brandenburg Iller e.V.
X-ORIGINAL-URL:https://kloster-brandenburg.de
X-WR-CALDESC:Veranstaltungen für Kloster Brandenburg Iller e.V.
REFRESH-INTERVAL;VALUE=DURATION:PT1H
X-Robots-Tag:noindex
X-PUBLISHED-TTL:PT1H
BEGIN:VTIMEZONE
TZID:Europe/Berlin
BEGIN:DAYLIGHT
TZOFFSETFROM:+0100
TZOFFSETTO:+0200
TZNAME:CEST
DTSTART:20250330T010000
END:DAYLIGHT
BEGIN:STANDARD
TZOFFSETFROM:+0200
TZOFFSETTO:+0100
TZNAME:CET
DTSTART:20251026T010000
END:STANDARD
BEGIN:DAYLIGHT
TZOFFSETFROM:+0100
TZOFFSETTO:+0200
TZNAME:CEST
DTSTART:20260329T010000
END:DAYLIGHT
BEGIN:STANDARD
TZOFFSETFROM:+0200
TZOFFSETTO:+0100
TZNAME:CET
DTSTART:20261025T010000
END:STANDARD
BEGIN:DAYLIGHT
TZOFFSETFROM:+0100
TZOFFSETTO:+0200
TZNAME:CEST
DTSTART:20270328T010000
END:DAYLIGHT
BEGIN:STANDARD
TZOFFSETFROM:+0200
TZOFFSETTO:+0100
TZNAME:CET
DTSTART:20271031T010000
END:STANDARD
BEGIN:DAYLIGHT
TZOFFSETFROM:+0100
TZOFFSETTO:+0200
TZNAME:CEST
DTSTART:20280326T010000
END:DAYLIGHT
BEGIN:STANDARD
TZOFFSETFROM:+0200
TZOFFSETTO:+0100
TZNAME:CET
DTSTART:20281029T010000
END:STANDARD
END:VTIMEZONE
BEGIN:VEVENT
DTSTART;TZID=Europe/Berlin:20260101T080000
DTEND;TZID=Europe/Berlin:20270117T170000
DTSTAMP:20260420T062705
CREATED:20260101T083341Z
LAST-MODIFIED:20260109T091842Z
UID:14059-1767254400-1800205200@kloster-brandenburg.de
SUMMARY:26/001 Pilgertage im Jahr 2026
DESCRIPTION:Zusammenfassung aller Pilgertage im Jahr 2026\, siehe Flyer
URL:https://kloster-brandenburg.de/veranstaltung/26-001-pilgertage-im-jahr-2026/
CATEGORIES:Pilgern
ATTACH;FMTTYPE=image/png:https://kloster-brandenburg.de/wp-content/uploads/2025/12/26_001-Pilgertage_zusammengefasst_Titelbild.png
END:VEVENT
BEGIN:VEVENT
DTSTART;TZID=Europe/Berlin:20260101T080000
DTEND;TZID=Europe/Berlin:20270117T170000
DTSTAMP:20260420T062705
CREATED:20260101T090236Z
LAST-MODIFIED:20260109T091932Z
UID:14064-1767254400-1800205200@kloster-brandenburg.de
SUMMARY:26/002 Naturseminare im Jahr 2026
DESCRIPTION:Zusammenfassung aller Naturseminare im Jahr 2026\, siehe Flyer
URL:https://kloster-brandenburg.de/veranstaltung/26-002-naturseminare-im-jahr-2026/
CATEGORIES:Naturseminare
ATTACH;FMTTYPE=image/png:https://kloster-brandenburg.de/wp-content/uploads/2025/12/26_002-Natur_zusammengefasst_Titelbild-1.png
END:VEVENT
BEGIN:VEVENT
DTSTART;TZID=Europe/Berlin:20260101T080000
DTEND;TZID=Europe/Berlin:20270117T170000
DTSTAMP:20260420T062705
CREATED:20260101T103041Z
LAST-MODIFIED:20260109T092021Z
UID:14069-1767254400-1800205200@kloster-brandenburg.de
SUMMARY:26/003 Trauerseminare im Jahr 2026
DESCRIPTION:Zusammenfassung aller Trauerseminare im Jahr 2026\, siehe  Flyer
URL:https://kloster-brandenburg.de/veranstaltung/26-003-trauerseminare-im-jahr-2026/
CATEGORIES:Trauer
ATTACH;FMTTYPE=image/png:https://kloster-brandenburg.de/wp-content/uploads/2025/12/26_003-Trauer_zusammengefasst.png
END:VEVENT
BEGIN:VEVENT
DTSTART;TZID=Europe/Berlin:20261204T180000
DTEND;TZID=Europe/Berlin:20261206T130000
DTSTAMP:20260420T062705
CREATED:20251001T060035Z
LAST-MODIFIED:20260223T140918Z
UID:13893-1796407200-1796562000@kloster-brandenburg.de
SUMMARY:S26/66 - Seelische Hausapotheke
DESCRIPTION:Leitung: Michael Ragg – Seelische Hausapotheke \nDie seelische Hausapotheke ist eine Schatzkammer mit vorbeugenden und heilsamen Gedanken für den Alltag. Sie stammen vor allem aus der Heiligen Schrift und aus der von Professor Viktor Frankl begründeten Logotherapie\, die vom jüdisch-christlichen Menschenbild ausgeht. Der Referent\, Michael Ragg\, verständlich\,   praktisch und humorvoll\, vermittelt geistige Werkzeuge\, mit denen wir unser Leben nachhaltig bereichern können.\nWie man bei Husten zum Hustensaft greift\, bei Verletzungen ein schützendes Pflaster aufträgt oder Tee zur Beruhigung oder Stärkung trinkt\, gehören die im Seminar entfalteten Einsichten in unsere seelische Hausapotheke –  Regelmäßig angewandt\, fördern diese Gedanken innere Freiheit\, Persönlichkeit und Lebensfreude.\nDer Kurs erschließt Ressourcen\, die helfen\, gerade in Zeiten des Wandels ein fruchtbares Leben aus dem Glauben zu führen. \nWeitere Informationen entnehmen Sie bitte dem  Flyer
URL:https://kloster-brandenburg.de/veranstaltung/s26-66-seelische-hausapotheke/
LOCATION:Kloster Brandenburg\, Am Schlossberg 3\, 89165 Dietenheim-Regglisweiler\, Deutschland
CATEGORIES:Auszeittage,Besinnung,Interessierte aller Altersklassen
ATTACH;FMTTYPE=image/png:https://kloster-brandenburg.de/wp-content/uploads/2024/11/25_40-Komm-du-Geist_Pfr.Klappenecker_Frank-Hildegard_BesinnungsWE_Titelbild.png
END:VEVENT
END:VCALENDAR