BEGIN:VCALENDAR
VERSION:2.0
PRODID:-//Kloster Brandenburg Iller e.V. - ECPv6.15.20//NONSGML v1.0//EN
CALSCALE:GREGORIAN
METHOD:PUBLISH
X-WR-CALNAME:Kloster Brandenburg Iller e.V.
X-ORIGINAL-URL:https://kloster-brandenburg.de
X-WR-CALDESC:Veranstaltungen für Kloster Brandenburg Iller e.V.
REFRESH-INTERVAL;VALUE=DURATION:PT1H
X-Robots-Tag:noindex
X-PUBLISHED-TTL:PT1H
BEGIN:VTIMEZONE
TZID:Europe/Berlin
BEGIN:DAYLIGHT
TZOFFSETFROM:+0100
TZOFFSETTO:+0200
TZNAME:CEST
DTSTART:20240331T010000
END:DAYLIGHT
BEGIN:STANDARD
TZOFFSETFROM:+0200
TZOFFSETTO:+0100
TZNAME:CET
DTSTART:20241027T010000
END:STANDARD
BEGIN:DAYLIGHT
TZOFFSETFROM:+0100
TZOFFSETTO:+0200
TZNAME:CEST
DTSTART:20250330T010000
END:DAYLIGHT
BEGIN:STANDARD
TZOFFSETFROM:+0200
TZOFFSETTO:+0100
TZNAME:CET
DTSTART:20251026T010000
END:STANDARD
BEGIN:DAYLIGHT
TZOFFSETFROM:+0100
TZOFFSETTO:+0200
TZNAME:CEST
DTSTART:20260329T010000
END:DAYLIGHT
BEGIN:STANDARD
TZOFFSETFROM:+0200
TZOFFSETTO:+0100
TZNAME:CET
DTSTART:20261025T010000
END:STANDARD
END:VTIMEZONE
BEGIN:VEVENT
DTSTART;TZID=Europe/Berlin:20250206T080000
DTEND;TZID=Europe/Berlin:20251215T170000
DTSTAMP:20260425T140348
CREATED:20250206T161336Z
LAST-MODIFIED:20251215T103417Z
UID:13297-1738828800-1765818000@kloster-brandenburg.de
SUMMARY:25/002 Naturseminare 2025
DESCRIPTION:Zusammenfassung der Naturseminare 2025 hier im  Flyer
URL:https://kloster-brandenburg.de/veranstaltung/25_002-naturseminare-2025/
ATTACH;FMTTYPE=image/png:https://kloster-brandenburg.de/wp-content/uploads/2025/02/25_002-Natur_zusammengefasst_Titelbild.png
END:VEVENT
BEGIN:VEVENT
DTSTART;TZID=Europe/Berlin:20250206T080000
DTEND;TZID=Europe/Berlin:20251215T170000
DTSTAMP:20260425T140348
CREATED:20250206T161841Z
LAST-MODIFIED:20251215T103626Z
UID:13302-1738828800-1765818000@kloster-brandenburg.de
SUMMARY:25/003 Trauerseminare 2025
DESCRIPTION:Zusammenfassung der Trauerseminare 2025 hier im  Flyer
URL:https://kloster-brandenburg.de/veranstaltung/25_003-trauerseminare-2025/
ATTACH;FMTTYPE=image/png:https://kloster-brandenburg.de/wp-content/uploads/2025/02/25_003-Trauer_zusammengefasst_Bild-1.png
END:VEVENT
BEGIN:VEVENT
DTSTART;TZID=Europe/Berlin:20250206T121700
DTEND;TZID=Europe/Berlin:20251215T121700
DTSTAMP:20260425T140348
CREATED:20250206T160401Z
LAST-MODIFIED:20251215T103301Z
UID:13293-1738844220-1765801020@kloster-brandenburg.de
SUMMARY:25/001 Pilgertage im Jahr 2025
DESCRIPTION:Zusammenfassung aller Pilgertage im Jahr 2025 siehe  Flyer
URL:https://kloster-brandenburg.de/veranstaltung/25_001-pilgertage-im-jahr-2025/
ATTACH;FMTTYPE=image/jpeg:https://kloster-brandenburg.de/wp-content/uploads/2024/11/25_27-Pilgern-fuer-Frauen_Stroppel-Hanne_Titelbild-scaled.jpg
END:VEVENT
BEGIN:VEVENT
DTSTART;TZID=Europe/Berlin:20250904T180000
DTEND;TZID=Europe/Berlin:20250907T130000
DTSTAMP:20260425T140348
CREATED:20241101T070055Z
LAST-MODIFIED:20250311T153149Z
UID:12419-1757008800-1757250000@kloster-brandenburg.de
SUMMARY:E25/52 - Dem Heiland und Erlöser Jesus Christus begegnen. Innere Heilung und Befreiung durch Vergebung
DESCRIPTION:Leitung: P. Dr. Willibrord Driever OSB – Dem Heiland und Erlöser Jesus Christus begegnen. Innere Heilung und Befreiung durch Vergebung \nJeder Mensch ist mehr oder weniger psychoemotional verletzt. Diese inneren Verletzungen bestimmen die Art und Weise\, wie wir die Menschen um uns herum wahrnehmen\, bestimmen unser Selbstbild und unser Gottesbild. \nWeitere Informationen entnehmen Sie bitte dem  Flyer
URL:https://kloster-brandenburg.de/veranstaltung/e25-52-dem-heiland-und-erloeser-jesus-christus-begegnen-innere-heilung-und-befreiung-durch-vergebung/
LOCATION:Kloster Brandenburg\, Am Schlossberg 3\, 89165 Dietenheim-Regglisweiler\, Deutschland
CATEGORIES:Interessierte aller Altersklassen,Schweigeexerzitien
ATTACH;FMTTYPE=image/jpeg:https://kloster-brandenburg.de/wp-content/uploads/2024/11/25_52-Dem-Heiland-und-Erloeser_P.Willibrord-Driever_Titelbild1.jpg
END:VEVENT
BEGIN:VEVENT
DTSTART;TZID=Europe/Berlin:20250911T180000
DTEND;TZID=Europe/Berlin:20250914T130000
DTSTAMP:20260425T140348
CREATED:20241101T070035Z
LAST-MODIFIED:20250214T084854Z
UID:12421-1757613600-1757854800@kloster-brandenburg.de
SUMMARY:E25/53 - Der Geist und die Braut rufen: "Komm". Die Sehnsucht nach Gottes Kommen.
DESCRIPTION:Leitung: Pfr. Peter Meyer – Der Geist und die Braut rufen: „Komm“. Die Sehnsucht nach Gottes Kommen. \nDer Geist und die Braut sagen: »Komm!« Und wer das hört\, soll auch rufen: »Komm!« Wer durstig ist\, der soll kommen. Jedem\, der es haben möchte\, wird Gott das Wasser des Lebens schenken. (Offenbarung 22\,17) \nWeitere Informationen entnehmen Sie bitte dem  Flyer
URL:https://kloster-brandenburg.de/veranstaltung/e25-53-der-geist-und-die-braut-rufen-komm-die-sehnsucht-nach-gottes-kommen/
LOCATION:Kloster Brandenburg\, Am Schlossberg 3\, 89165 Dietenheim-Regglisweiler\, Deutschland
CATEGORIES:Exerzitien,Interessierte aller Altersklassen
ATTACH;FMTTYPE=image/png:https://kloster-brandenburg.de/wp-content/uploads/2024/11/25_53-Der-Geist-und-die-Braut_Pfr.-Peter-Meyer_Titelbild.png
END:VEVENT
BEGIN:VEVENT
DTSTART;TZID=Europe/Berlin:20250913T090000
DTEND;TZID=Europe/Berlin:20250913T170000
DTSTAMP:20260425T140348
CREATED:20241101T070025Z
LAST-MODIFIED:20250213T150008Z
UID:12423-1757754000-1757782800@kloster-brandenburg.de
SUMMARY:P25/54 - Gottes Zeichen seht\, spürt\, riecht!
DESCRIPTION:Leitung: Dr. Wolfgang Steffel mit Hannelore Stroppel als Begleitung – Gottes Zeichen seht\, spürt\, riecht! – Mit allen Sinnen rund um Kloster Brandenburg \nAusgang ist ein Lied auf einen Text von Willi Fährmann (*18.12.1929 /+ 25.5.2017): \n„Seht\, seht\, seht: Gottes Zeichen! Seht! In der Farbe der Blumen\, in der Feinheit der Krumen\, in dem Glanze der Sterne\, in der Bläue der Ferne\, in dem Elend der Armen\, in dem Bild\, habt Erbarmen.“ Alle Sinne spricht Fährmann an: Sehen\, hören\, riechen\, schmecken\, spüren. Spüren können wir etwa den „Weichpelz des Katers\, das Eis auf der Zunge\, das Tiefatmen der Lunge.“        So beten die Pilger mit Jerónimo Nadal SJ: „Gott\, wir bitten dich um ein inneres Verspüren des Geistes. Gib\, dass das Sehen und Hören des Geistes uns das Verspüren des Glaubens schenke\, das Riechen der Hoffnung und das Verkosten der Liebe\, damit wir deinen Willen erfüllen können in Jesus Christus\, dem Lob und Ehre sei in Ewigkeit.“ \nWeitere Informationen entnehmen Sie bitte dem  Flyer \n  \n.
URL:https://kloster-brandenburg.de/veranstaltung/p25-54-gottes-zeichen-sehtspuert-riecht/
LOCATION:Kloster Brandenburg\, Am Schlossberg 3\, 89165 Dietenheim-Regglisweiler\, Deutschland
CATEGORIES:Pilgerwanderung
ATTACH;FMTTYPE=image/png:https://kloster-brandenburg.de/wp-content/uploads/2024/11/25_54-Pilgertag_Dr.-Wolfgang-Steffel_Titelbild.png
END:VEVENT
BEGIN:VEVENT
DTSTART;TZID=Europe/Berlin:20250919T083000
DTEND;TZID=Europe/Berlin:20250921T170000
DTSTAMP:20260425T140348
CREATED:20241101T070041Z
LAST-MODIFIED:20250909T121643Z
UID:12425-1758270600-1758474000@kloster-brandenburg.de
SUMMARY:ABGESAGT P25/55 - Zeit zu leben. Zeit zu bewegen. - Ausweichtermin Kurs P 25/61
DESCRIPTION:Abgesagt – Leitung: Hannelore Stroppel – Zeit zu leben. Zeit zu bewegen. \nUnter diesem Motto machen wir Frauen uns auf den Weg. Gemeinsam pilgern wir in Gottes wunderbarer Schöpfung. Kurze spirituelle Impulse\, Lieder oder Gedankenanstöße unterwegs laden zum Innehalten ein. Täglich geht man ein Stück des Weges im Schweigen. „Die Stille hören“. \nWeitere Informationen entnehmen Sie bitte dem  Flyer \nAusweichtermin siehe Kurs P 25/61 vom 17.10. – 19.10.25 – 3 tägige Pilgerwanderung rund ums Kloster.
URL:https://kloster-brandenburg.de/veranstaltung/p25-55-zeit-zu-leben-zeit-zu-bewegen/
LOCATION:Kloster Brandenburg\, Am Schlossberg 3\, 89165 Dietenheim-Regglisweiler\, Deutschland
CATEGORIES:Angebot für Frauen,Pilgerwanderung
ATTACH;FMTTYPE=image/jpeg:https://kloster-brandenburg.de/wp-content/uploads/2024/11/25_27-Pilgern-fuer-Frauen_Stroppel-Hanne_Titelbild-scaled.jpg
END:VEVENT
BEGIN:VEVENT
DTSTART;TZID=Europe/Berlin:20250922T180000
DTEND;TZID=Europe/Berlin:20250927T130000
DTSTAMP:20260425T140348
CREATED:20241101T070020Z
LAST-MODIFIED:20250214T083151Z
UID:12427-1758564000-1758978000@kloster-brandenburg.de
SUMMARY:E25/56 - ABC-Dario der Innerlichkeit
DESCRIPTION:Leitung: Weihbischof Marian Eleganti – Dario der Innerlichkeit – Die Salbung\, die ihr von ihm empfangen habt\, bleibt in Euch und Ihr braucht Euch von niemand belehren zu lassen (1Joh2\,27) \nWer findet sich zurecht in seiner eigenen Innerlichkeit? Der Exerzitienkurs soll helfen\, in der Erkenntnis Christi zu wachsen\, aber auch uns selbst tiefer zu verstehen und uns zu Anbetern im Geist und in der Wahrheit zu entwickeln. Wir lernen Werkzeuge der geistlichen Kunst und des inneren\, spirituellen Kampfes kennen. \nWeitere Informationen entnehmen Sie bitte aus dem  Flyer
URL:https://kloster-brandenburg.de/veranstaltung/e25-56-abc-dario-der-innerlichkeit/
LOCATION:Kloster Brandenburg\, Am Schlossberg 3\, 89165 Dietenheim-Regglisweiler\, Deutschland
CATEGORIES:Glaubenswoche,Interessierte aller Altersklassen
ATTACH;FMTTYPE=image/png:https://kloster-brandenburg.de/wp-content/uploads/2024/11/25_56-ABC-Dario_Weihbischof-Marian-Eleganti_Titelbild.png
END:VEVENT
END:VCALENDAR