BEGIN:VCALENDAR
VERSION:2.0
PRODID:-//Kloster Brandenburg Iller e.V. - ECPv6.15.20//NONSGML v1.0//EN
CALSCALE:GREGORIAN
METHOD:PUBLISH
X-WR-CALNAME:Kloster Brandenburg Iller e.V.
X-ORIGINAL-URL:https://kloster-brandenburg.de
X-WR-CALDESC:Veranstaltungen für Kloster Brandenburg Iller e.V.
REFRESH-INTERVAL;VALUE=DURATION:PT1H
X-Robots-Tag:noindex
X-PUBLISHED-TTL:PT1H
BEGIN:VTIMEZONE
TZID:Europe/Berlin
BEGIN:DAYLIGHT
TZOFFSETFROM:+0100
TZOFFSETTO:+0200
TZNAME:CEST
DTSTART:20240331T010000
END:DAYLIGHT
BEGIN:STANDARD
TZOFFSETFROM:+0200
TZOFFSETTO:+0100
TZNAME:CET
DTSTART:20241027T010000
END:STANDARD
BEGIN:DAYLIGHT
TZOFFSETFROM:+0100
TZOFFSETTO:+0200
TZNAME:CEST
DTSTART:20250330T010000
END:DAYLIGHT
BEGIN:STANDARD
TZOFFSETFROM:+0200
TZOFFSETTO:+0100
TZNAME:CET
DTSTART:20251026T010000
END:STANDARD
BEGIN:DAYLIGHT
TZOFFSETFROM:+0100
TZOFFSETTO:+0200
TZNAME:CEST
DTSTART:20260329T010000
END:DAYLIGHT
BEGIN:STANDARD
TZOFFSETFROM:+0200
TZOFFSETTO:+0100
TZNAME:CET
DTSTART:20261025T010000
END:STANDARD
END:VTIMEZONE
BEGIN:VEVENT
DTSTART;TZID=Europe/Berlin:20250206T080000
DTEND;TZID=Europe/Berlin:20251215T170000
DTSTAMP:20260425T140349
CREATED:20250206T161336Z
LAST-MODIFIED:20251215T103417Z
UID:13297-1738828800-1765818000@kloster-brandenburg.de
SUMMARY:25/002 Naturseminare 2025
DESCRIPTION:Zusammenfassung der Naturseminare 2025 hier im  Flyer
URL:https://kloster-brandenburg.de/veranstaltung/25_002-naturseminare-2025/
ATTACH;FMTTYPE=image/png:https://kloster-brandenburg.de/wp-content/uploads/2025/02/25_002-Natur_zusammengefasst_Titelbild.png
END:VEVENT
BEGIN:VEVENT
DTSTART;TZID=Europe/Berlin:20250206T080000
DTEND;TZID=Europe/Berlin:20251215T170000
DTSTAMP:20260425T140349
CREATED:20250206T161841Z
LAST-MODIFIED:20251215T103626Z
UID:13302-1738828800-1765818000@kloster-brandenburg.de
SUMMARY:25/003 Trauerseminare 2025
DESCRIPTION:Zusammenfassung der Trauerseminare 2025 hier im  Flyer
URL:https://kloster-brandenburg.de/veranstaltung/25_003-trauerseminare-2025/
ATTACH;FMTTYPE=image/png:https://kloster-brandenburg.de/wp-content/uploads/2025/02/25_003-Trauer_zusammengefasst_Bild-1.png
END:VEVENT
BEGIN:VEVENT
DTSTART;TZID=Europe/Berlin:20250206T121700
DTEND;TZID=Europe/Berlin:20251215T121700
DTSTAMP:20260425T140349
CREATED:20250206T160401Z
LAST-MODIFIED:20251215T103301Z
UID:13293-1738844220-1765801020@kloster-brandenburg.de
SUMMARY:25/001 Pilgertage im Jahr 2025
DESCRIPTION:Zusammenfassung aller Pilgertage im Jahr 2025 siehe  Flyer
URL:https://kloster-brandenburg.de/veranstaltung/25_001-pilgertage-im-jahr-2025/
ATTACH;FMTTYPE=image/jpeg:https://kloster-brandenburg.de/wp-content/uploads/2024/11/25_27-Pilgern-fuer-Frauen_Stroppel-Hanne_Titelbild-scaled.jpg
END:VEVENT
BEGIN:VEVENT
DTSTART;TZID=Europe/Berlin:20251003T100000
DTEND;TZID=Europe/Berlin:20251003T170000
DTSTAMP:20260425T140349
CREATED:20250626T063914Z
LAST-MODIFIED:20250709T112850Z
UID:13599-1759485600-1759510800@kloster-brandenburg.de
SUMMARY:J25/76 - NEU - Jugend Heilungsgebetstag - 16-28 Jahre
DESCRIPTION:Neuer Kurs – Leitung: Pfr. Dariusz Stankiewicz – Jugend Heilungsgebetstag – 16-28 Jahre \nAn diesem und an den nächsten Jugend Heilungsgebetstagen werden unter anderem folgende Themen angesprochen:\nWürde\, Grenzen setzen auch in der Freundschaft\, falsche Gottesbilder „Götzen im Alltag“\, Identität\, Selbstwert\, Rollenbilder\, eigene Stärken erkennen und fördern\, toxische Beziehungen … \nWeitere Informationen entnehmen Sie bitte dem  Flyer \nWerbung auf Youtube \nEinverständniserklärung für minderjährige Kloster Brandenburg
URL:https://kloster-brandenburg.de/veranstaltung/j25-76-jugend-heilungsgebetstag-16-28-jahre/
CATEGORIES:Heilungsgebetstag,Interessierte jüngere Menschen,Jugend
ATTACH;FMTTYPE=image/png:https://kloster-brandenburg.de/wp-content/uploads/2025/06/25_76-Jugend-Heilungsgebetstag_Titelbild.png
END:VEVENT
BEGIN:VEVENT
DTSTART;TZID=Europe/Berlin:20251011T130000
DTEND;TZID=Europe/Berlin:20251011T170000
DTSTAMP:20260425T140349
CREATED:20241101T070040Z
LAST-MODIFIED:20250220T110714Z
UID:12433-1760187600-1760202000@kloster-brandenburg.de
SUMMARY:T25/59 - Letzte-Hilfe-Kurs - für Jugendliche von 12 - 16 Jahren
DESCRIPTION:Leitung: Sandra Marek mit Raphael Steber als Begleitung – Letzte-Hilfe-Kurs – für Jugendliche von 12 – 16 Jahren \nDas Seminar für Teens vermittelt Basiswissen und Orientierung sowie einfache Handgriffe für die Begleitung schwerstkranker Menschen. Wir befähigen offen mit Krankheit\, Trauer und Sterben umzugehen. Kinder und Jugendliche möchten über das Thema sprechen und haben ein Recht darauf gehört zu werden. \nWeitere Informationen entnehmen Sie bitte dem  Flyer
URL:https://kloster-brandenburg.de/veranstaltung/t25-59-letzte-hilfe-kurs-fuer-jugendliche-von-12-16-jahren/
LOCATION:Kloster Brandenburg\, Am Schlossberg 3\, 89165 Dietenheim-Regglisweiler\, Deutschland
CATEGORIES:Jugend,Seminare mit Schwerpunktthemen,Trauer
ATTACH;FMTTYPE=image/png:https://kloster-brandenburg.de/wp-content/uploads/2024/11/25-03-15-Letzte-Hilfe-am-Kind_Titelbild.png
END:VEVENT
BEGIN:VEVENT
DTSTART;TZID=Europe/Berlin:20251014T180000
DTEND;TZID=Europe/Berlin:20251016T130000
DTSTAMP:20260425T140349
CREATED:20241101T070055Z
LAST-MODIFIED:20250903T093325Z
UID:12435-1760464800-1760619600@kloster-brandenburg.de
SUMMARY:ABGESAGT E25/60 - Fatima ein Ruf zur Heiligkeit - Leben mit der Botschaft von Fatima
DESCRIPTION:Aus persönlichen Gründen muss der Kurs abgesagt werden. Leitung: Pfr. Jörg Fleischer – Fatima ein Ruf zur Heiligkeit – Leben mit der Botschaft von Fatima \nTauchen Sie ein in die spirituelle Tiefe der Botschaft von Fatima! Diese Einkehrtage bieten Ihnen die Möglichkeit\, die Erscheinungen der Gottesmutter Maria in Fatima neu zu entdecken und ihre Bedeutung für unser persönliches Glaubensleben zu vertiefen. In einer Atmosphäre der Stille und des Gebets erwarten Sie inspirierende Impulse\, gemeinsames Rosenkranzgebet und die Heilige Eucharistie sowie Zeiten der Besinnung.\nLassen Sie sich von Marias Aufruf zu Umkehr\, Gebet und Frieden berühren – für sich selbst\, für die Kirche und für die Welt. \nWeitere Informationen entnehmen Sie bitte dem  Flyer
URL:https://kloster-brandenburg.de/veranstaltung/e25-60-fatima-ein-ruf-zur-heiligkeit-leben-mit-der-botschaft-von-fatima/
LOCATION:Kloster Brandenburg\, Am Schlossberg 3\, 89165 Dietenheim-Regglisweiler\, Deutschland
CATEGORIES:Exerzitien,Interessierte aller Altersklassen
ATTACH;FMTTYPE=image/png:https://kloster-brandenburg.de/wp-content/uploads/2024/11/Veranstaltung-Abgesagt_gross.png
END:VEVENT
BEGIN:VEVENT
DTSTART;TZID=Europe/Berlin:20251017T083000
DTEND;TZID=Europe/Berlin:20251019T170000
DTSTAMP:20260425T140349
CREATED:20241101T070030Z
LAST-MODIFIED:20250414T125701Z
UID:12437-1760689800-1760893200@kloster-brandenburg.de
SUMMARY:P25/61 - Dreitägige Pilgerwanderung - rund ums Kloster
DESCRIPTION:Leitung: Hannelore Stroppel – Dreitägige Pilgerwanderung – rund ums Kloster \nTäglich werden in Kapellen und Kirchen oder an Wegkreuzen Impulse und Lobpreis gehalten. \nWeitere Informationen entnehmen Sie bitte dem  Flyer
URL:https://kloster-brandenburg.de/veranstaltung/p25-61-dreitaegige-pilgerwanderung-rund-ums-kloster/
LOCATION:Kloster Brandenburg\, Am Schlossberg 3\, 89165 Dietenheim-Regglisweiler\, Deutschland
CATEGORIES:Interessierte aller Altersklassen,Pilgerwanderung
ATTACH;FMTTYPE=image/jpeg:https://kloster-brandenburg.de/wp-content/uploads/2024/11/25_27-Pilgern-fuer-Frauen_Stroppel-Hanne_Titelbild-scaled.jpg
END:VEVENT
BEGIN:VEVENT
DTSTART;TZID=Europe/Berlin:20251018T090000
DTEND;TZID=Europe/Berlin:20251018T170000
DTSTAMP:20260425T140349
CREATED:20241101T070038Z
LAST-MODIFIED:20250206T144154Z
UID:12439-1760778000-1760806800@kloster-brandenburg.de
SUMMARY:N25/62 - Herbstfülle- Wilde Früchte genießen
DESCRIPTION:Leitung: Ernestine Verdura – Herbstfülle- Wilde Früchte genießen \nSträucher und Bäume haben während des Jahres Sonne\, Regen und Wind in kraftvolle Früchte und Samen umgewandelt. Sie bieten uns Nahrung\, die sich gut für den Winter haltbar machen lässt. Die meisten Wildfrüchte enthalten abwehrsteigernde und heilende Wirkstoffe und schmecken dazu noch sehr gut. \nWeitere Informationen entnehmen Sie bitte dem  Flyer
URL:https://kloster-brandenburg.de/veranstaltung/n25-62-herbstfuelle-wilde-fruechte-geniessen/
LOCATION:Kloster Brandenburg\, Am Schlossberg 3\, 89165 Dietenheim-Regglisweiler\, Deutschland
CATEGORIES:Interessierte aller Altersklassen,Tagesveranstaltung,Workshop
ATTACH;FMTTYPE=image/png:https://kloster-brandenburg.de/wp-content/uploads/2024/11/25_62-Herbstfuelle_Ernestine-Verdura_Titelbild.png
END:VEVENT
BEGIN:VEVENT
DTSTART;TZID=Europe/Berlin:20251021T180000
DTEND;TZID=Europe/Berlin:20251025T130000
DTSTAMP:20260425T140349
CREATED:20241101T070052Z
LAST-MODIFIED:20250515T141515Z
UID:12441-1761069600-1761397200@kloster-brandenburg.de
SUMMARY:E25/63 - Heilung der Beziehungen
DESCRIPTION:Leitung: Pfr. Dariusz Stankiewicz mit P. Leonhard Wetterich OFM & Team als Begleitung – Heilung der Beziehungen  \nHeutzutage erleben viele Menschen Enttäuschung und Frust durch negative Erfahrungen in Beziehungen. Wir alle sehnen uns nach einem harmonischen Miteinander. Doch warum erfahren wir trotz Anstrengung so häufig Verletzung und Entfremdung? In diesen Exerzitien wollen wir uns mit der Bedeutung von Beziehung und Partnerschaft aus Gottes Perspektive beschäftigen.\nWir werden uns mit Kindheitserfahrungen auseinandersetzen\, welche unsere Beziehungsfähigkeit häufig unbewusst beeinflussen und ungesunde Denkstrukturen und Handlungsmechanismen hervorrufen. Auch wollen wir uns mit den Folgen misslungener Partnerschaften beschäftigen\, welche Blockaden und Hindernisse für eine gelingende Beziehung in der Zukunft verursachen.\nDiese Exerzitien zielen auf die Entdeckung persönlicher Lebensblockaden ab und möchten die Möglichkeit zur Aufarbeitung unter dem Blick von Gottes Wahrheit und Liebe bieten. \nWeitere Informationen entnehmen Sie bitte dem  Flyer
URL:https://kloster-brandenburg.de/veranstaltung/e25-63-heilung-der-beziehungen/
LOCATION:Kloster Brandenburg\, Am Schlossberg 3\, 89165 Dietenheim-Regglisweiler\, Deutschland
CATEGORIES:Exerzitien,Interessierte aller Altersklassen
ATTACH;FMTTYPE=image/png:https://kloster-brandenburg.de/wp-content/uploads/2024/11/25_63-Heilung-der-Beziehung_Pfr.-Dariusz_Titelbild.png
END:VEVENT
END:VCALENDAR