BEGIN:VCALENDAR
VERSION:2.0
PRODID:-//Kloster Brandenburg Iller e.V. - ECPv6.15.20//NONSGML v1.0//EN
CALSCALE:GREGORIAN
METHOD:PUBLISH
X-ORIGINAL-URL:https://kloster-brandenburg.de
X-WR-CALDESC:Veranstaltungen für Kloster Brandenburg Iller e.V.
REFRESH-INTERVAL;VALUE=DURATION:PT1H
X-Robots-Tag:noindex
X-PUBLISHED-TTL:PT1H
BEGIN:VTIMEZONE
TZID:Europe/Berlin
BEGIN:DAYLIGHT
TZOFFSETFROM:+0100
TZOFFSETTO:+0200
TZNAME:CEST
DTSTART:20250330T010000
END:DAYLIGHT
BEGIN:STANDARD
TZOFFSETFROM:+0200
TZOFFSETTO:+0100
TZNAME:CET
DTSTART:20251026T010000
END:STANDARD
BEGIN:DAYLIGHT
TZOFFSETFROM:+0100
TZOFFSETTO:+0200
TZNAME:CEST
DTSTART:20260329T010000
END:DAYLIGHT
BEGIN:STANDARD
TZOFFSETFROM:+0200
TZOFFSETTO:+0100
TZNAME:CET
DTSTART:20261025T010000
END:STANDARD
BEGIN:DAYLIGHT
TZOFFSETFROM:+0100
TZOFFSETTO:+0200
TZNAME:CEST
DTSTART:20270328T010000
END:DAYLIGHT
BEGIN:STANDARD
TZOFFSETFROM:+0200
TZOFFSETTO:+0100
TZNAME:CET
DTSTART:20271031T010000
END:STANDARD
BEGIN:DAYLIGHT
TZOFFSETFROM:+0100
TZOFFSETTO:+0200
TZNAME:CEST
DTSTART:20280326T010000
END:DAYLIGHT
BEGIN:STANDARD
TZOFFSETFROM:+0200
TZOFFSETTO:+0100
TZNAME:CET
DTSTART:20281029T010000
END:STANDARD
END:VTIMEZONE
BEGIN:VEVENT
DTSTART;TZID=Europe/Berlin:20260101T080000
DTEND;TZID=Europe/Berlin:20270117T170000
DTSTAMP:20260421T151221
CREATED:20260101T083341Z
LAST-MODIFIED:20260109T091842Z
UID:14059-1767254400-1800205200@kloster-brandenburg.de
SUMMARY:26/001 Pilgertage im Jahr 2026
DESCRIPTION:Zusammenfassung aller Pilgertage im Jahr 2026\, siehe Flyer
URL:https://kloster-brandenburg.de/veranstaltung/26-001-pilgertage-im-jahr-2026/
CATEGORIES:Pilgern
ATTACH;FMTTYPE=image/png:https://kloster-brandenburg.de/wp-content/uploads/2025/12/26_001-Pilgertage_zusammengefasst_Titelbild.png
END:VEVENT
BEGIN:VEVENT
DTSTART;TZID=Europe/Berlin:20260101T080000
DTEND;TZID=Europe/Berlin:20270117T170000
DTSTAMP:20260421T151221
CREATED:20260101T090236Z
LAST-MODIFIED:20260109T091932Z
UID:14064-1767254400-1800205200@kloster-brandenburg.de
SUMMARY:26/002 Naturseminare im Jahr 2026
DESCRIPTION:Zusammenfassung aller Naturseminare im Jahr 2026\, siehe Flyer
URL:https://kloster-brandenburg.de/veranstaltung/26-002-naturseminare-im-jahr-2026/
CATEGORIES:Naturseminare
ATTACH;FMTTYPE=image/png:https://kloster-brandenburg.de/wp-content/uploads/2025/12/26_002-Natur_zusammengefasst_Titelbild-1.png
END:VEVENT
BEGIN:VEVENT
DTSTART;TZID=Europe/Berlin:20260101T080000
DTEND;TZID=Europe/Berlin:20270117T170000
DTSTAMP:20260421T151221
CREATED:20260101T103041Z
LAST-MODIFIED:20260109T092021Z
UID:14069-1767254400-1800205200@kloster-brandenburg.de
SUMMARY:26/003 Trauerseminare im Jahr 2026
DESCRIPTION:Zusammenfassung aller Trauerseminare im Jahr 2026\, siehe  Flyer
URL:https://kloster-brandenburg.de/veranstaltung/26-003-trauerseminare-im-jahr-2026/
CATEGORIES:Trauer
ATTACH;FMTTYPE=image/png:https://kloster-brandenburg.de/wp-content/uploads/2025/12/26_003-Trauer_zusammengefasst.png
END:VEVENT
BEGIN:VEVENT
DTSTART;TZID=Europe/Berlin:20260131T090000
DTEND;TZID=Europe/Berlin:20260201T163000
DTSTAMP:20260421T151221
CREATED:20251001T060001Z
LAST-MODIFIED:20260126T130234Z
UID:13740-1769850000-1769963400@kloster-brandenburg.de
SUMMARY:Abgesagt - T26/05 - Zerbrochenes heilen (lassen)
DESCRIPTION:Abgesagt – Leitung: Marie-Luise Hildebrand in Begleitung mit Sonja Brunnbauer – Zerbrochenes heilen (lassen) \nDer Verlust eines geliebten Menschen verändert das Leben tiefgreifend. Die vertraute Welt scheint zerbrochen\, und manchmal fühlt es sich an\, als gäbe es nur noch Scherben. Trauern hilft\, die zerbrochenen Teile unseres Lebens achtsam neu zu ordnen. Dieses Wochenende bietet einen geschützten Raum\, um die eigene Trauersituation bewusst wahrzunehmen und mit anderen Trauernden ins Gespräch zu kommen. \nWeitere Informationen entnehmen Sie bitte dem Flyer
URL:https://kloster-brandenburg.de/veranstaltung/t26-05-zerbrochenes-heilen-lassen/
LOCATION:Kloster Brandenburg\, Am Schlossberg 3\, 89165 Dietenheim-Regglisweiler\, Deutschland
CATEGORIES:Seminare mit Schwerpunktthemen,Trauer
ATTACH;FMTTYPE=image/png:https://kloster-brandenburg.de/wp-content/uploads/2024/11/Veranstaltung-Abgesagt_gross.png
END:VEVENT
BEGIN:VEVENT
DTSTART;TZID=Europe/Berlin:20260205T180000
DTEND;TZID=Europe/Berlin:20260208T130000
DTSTAMP:20260421T151221
CREATED:20251001T060047Z
LAST-MODIFIED:20260127T145017Z
UID:13744-1770314400-1770555600@kloster-brandenburg.de
SUMMARY:E26/06 - Heilende Bindungen - verletzende (Ver-) Bindungen
DESCRIPTION:Leitung: Dr. Anna Beraldi – Heilende Bindungen – verletzende (Ver-) Bindungen \nDer Mensch ist von Natur aus bindungsfähig. Es gibt aber Bindungen\, die verletzen und bindungsunfähig machen können. In diesem Kurs zeigen wir die Wege auf\, auf denen wir aus den schlechten Bindungen und deren Folgen rauskommen. \nWeitere Informationen entnehmen Sie bitte dem  Flyer
URL:https://kloster-brandenburg.de/veranstaltung/e26-06-heilende-bindung-verletztende-ver-bindungen/
LOCATION:Kloster Brandenburg\, Am Schlossberg 3\, 89165 Dietenheim-Regglisweiler\, Deutschland
CATEGORIES:Exerzitien,Interessierte aller Altersklassen
ATTACH;FMTTYPE=image/png:https://kloster-brandenburg.de/wp-content/uploads/2025/10/26_06-Heilende-Bindungen_-Pfr.-Dariusz-Stankiewicz_Titelbild.png
END:VEVENT
BEGIN:VEVENT
DTSTART;TZID=Europe/Berlin:20260207T090000
DTEND;TZID=Europe/Berlin:20260207T130000
DTSTAMP:20260421T151221
CREATED:20251001T060044Z
LAST-MODIFIED:20260108T091518Z
UID:13747-1770454800-1770469200@kloster-brandenburg.de
SUMMARY:T26/07 - Letzte-Hilfe-Kurs - Kleines 1x1 der Sterbebegleitung
DESCRIPTION:Leitung: Mitarbeiter der Hospizgruppe Iller-Weihung – Letzte-Hilfe-Kurs – Kleines 1×1 der Sterbebegleitung \nIn diesem Letzte-Hilfe-Kurs lernen Interessierte\, was sie für die ihnen Nahestehenden am Ende des Lebens tun können. Wir vermitteln Basiswissen und Orientierung sowie einfache Handgriffe. Sterbebegleitung ist keine Wissenschaft\, sondern ist auch in Familie und Nachbarschaft möglich. \nWeitere Informationen entnehmen Sie bitte dem  Flyer
URL:https://kloster-brandenburg.de/veranstaltung/t26-07-letzte-hilfe-kurs-kleine-1x1-der-sterbebegleitung/
LOCATION:Kloster Brandenburg\, Am Schlossberg 3\, 89165 Dietenheim-Regglisweiler\, Deutschland
CATEGORIES:Forum Hospiz,Interessierte aller Altersklassen,Trauer
ATTACH;FMTTYPE=image/png:https://kloster-brandenburg.de/wp-content/uploads/2024/11/25_4-Letzte-Hilfe-Seminar_Hospizgruppe_Titelbild.png
END:VEVENT
BEGIN:VEVENT
DTSTART;TZID=Europe/Berlin:20260207T093000
DTEND;TZID=Europe/Berlin:20260207T170000
DTSTAMP:20260421T151221
CREATED:20251001T060037Z
LAST-MODIFIED:20260108T092819Z
UID:13749-1770456600-1770483600@kloster-brandenburg.de
SUMMARY:S26/08 - Ich will mit Deinen Augen sehen und in Beziehungen leben
DESCRIPTION:Leitung: Rosemary Monreau – Ich will mit Deinen Augen sehen und in Beziehungen leben \nWas bedeutet es\, Beziehungen aus Gottes Sicht zu betrachten – als Frau\, Ehefrau\, Mutter\, Freundin? Unsere Gesellschaft wird zunehmend feindlicher gegenüber Jungen und Männern. Viele verlieren ihre Orientierung\, Identität und ihren Platz. Als christliche Frauen sind wir gefragt\, genauer hinzusehen – mit einem Verständnis\, das von Gottes Perspektive geprägt ist und nicht vom Zeitgeist. \nWeitere Informationen entnehmen Sie bitte dem Flyer
URL:https://kloster-brandenburg.de/veranstaltung/s26-08-ich-will-mit-deinen-augen-sehen-in-beziehungen-leben/
LOCATION:Kloster Brandenburg\, Am Schlossberg 3\, 89165 Dietenheim-Regglisweiler\, Deutschland
CATEGORIES:Angebot für Frauen,Einkehrtag,Workshop
ATTACH;FMTTYPE=image/jpeg:https://kloster-brandenburg.de/wp-content/uploads/2025/10/gluck-wohlbefinden-und-lifestyle-konzept-wunderschone-feminine-reizende-rothaarige-frau-mit-lockigem-haar-das-brotchen-gekammt-ist-tragt-eine-stilvolle-bluse-die-ein-friedenszeichen-scaled.jpg
END:VEVENT
BEGIN:VEVENT
DTSTART;TZID=Europe/Berlin:20260213T180000
DTEND;TZID=Europe/Berlin:20260217T130000
DTSTAMP:20260421T151221
CREATED:20251001T060045Z
LAST-MODIFIED:20260108T093755Z
UID:13754-1771005600-1771333200@kloster-brandenburg.de
SUMMARY:E26/09 - Betrachtung der Passion unseres Herrn Jesus Christus
DESCRIPTION:Leitung: Pfr. Fränz Muller – Betrachtung der Passion unseres Herrn Jesus Christus \n„Er wurde durchbohrt wegen unserer Verbrechen\, wegen unserer Sünden zermalmt. Zu unserem Heil lag die Strafe auf ihm\, durch seine Wunden sind wir geheilt“ (Jesaja 53\,5).  In diesem Seminar begleiten wir Jesus und betrachten\, wie Er in unser Leiden hineingeht um uns zu erlösen. \nWeitere Informationen entnehmen Sie bitte dem Flyer \n 
URL:https://kloster-brandenburg.de/veranstaltung/e26-09-betrachtung-der-passion-unseres-herrn-jesus-christus/
LOCATION:Kloster Brandenburg\, Am Schlossberg 3\, 89165 Dietenheim-Regglisweiler\, Deutschland
CATEGORIES:Exerzitien,Interessierte aller Altersklassen
ATTACH;FMTTYPE=image/jpeg:https://kloster-brandenburg.de/wp-content/uploads/2025/09/Titelbild-von-Pfr.-Fraenz_Email-2025-08-07.jpg
END:VEVENT
BEGIN:VEVENT
DTSTART;TZID=Europe/Berlin:20260216T093000
DTEND;TZID=Europe/Berlin:20260216T170000
DTSTAMP:20260421T151221
CREATED:20251001T060030Z
LAST-MODIFIED:20260112T074654Z
UID:13760-1771234200-1771261200@kloster-brandenburg.de
SUMMARY:S26/10 - Durch Schritte - um eine Mitte - Tanztag am Rosenmontag
DESCRIPTION:Leitung: Anne Ast in Begleitung von Sr. Regina-Maria Schmalz – Durch Schritte – um eine Mitte \nDie eigene Mitte finden\, über sich selbst hinausschauen und sich vom Himmel berühren lassen. Zur Ruhe kommen und die eigene Lebendigkeit spüren\, der eigenen Sehnsucht ganzheitlich Ausdruck geben. \nWeitere Informationen entnehmen Sie bitte dem Flyer \nDas erwartet dich im Kurs
URL:https://kloster-brandenburg.de/veranstaltung/s26-10-durch-schritte-um-eine-mitte/
LOCATION:Kloster Brandenburg\, Am Schlossberg 3\, 89165 Dietenheim-Regglisweiler\, Deutschland
CATEGORIES:Meditativer Tanztag
ATTACH;FMTTYPE=image/png:https://kloster-brandenburg.de/wp-content/uploads/2025/10/26_10-Tanztag_Ast-Anne_Sr.-Regina-Maria_Titelbild.png
END:VEVENT
BEGIN:VEVENT
DTSTART;TZID=Europe/Berlin:20260219T180000
DTEND;TZID=Europe/Berlin:20260222T130000
DTSTAMP:20260421T151221
CREATED:20251001T060000Z
LAST-MODIFIED:20260113T144551Z
UID:13983-1771524000-1771765200@kloster-brandenburg.de
SUMMARY:E26/11 - Praedica verbum - Wort Gottes - Verkündigung
DESCRIPTION:Leitung: Pfr. Peter Meyer – Praedica verbum – Wort Gottes – Verkündigung \n„Praedica verbum“ – Predige das Wort ist eine Aufforderung zur Verkündigung des Wortes Gottes. Dieses Seminar soll Anregungen und Hilfen zur persönlichen Glaubensvertiefungen bieten. \nWeitere Informationen entnehmen Sie bitte dem  Flyer
URL:https://kloster-brandenburg.de/veranstaltung/e26-11-praedica-verbum-wort-gottes-verkuendigung/
LOCATION:Kloster Brandenburg\, Am Schlossberg 3\, 89165 Dietenheim-Regglisweiler\, Deutschland
CATEGORIES:Exerzitien,Interessierte aller Altersklassen,Schweigen nach Ansage
ATTACH;FMTTYPE=image/jpeg:https://kloster-brandenburg.de/wp-content/uploads/2025/10/img_20250816_171810_by_Dominik-Schaack_pfarrbriefservice-scaled.jpg
END:VEVENT
BEGIN:VEVENT
DTSTART;TZID=Europe/Berlin:20260221T090000
DTEND;TZID=Europe/Berlin:20260221T170000
DTSTAMP:20260421T151221
CREATED:20251001T060031Z
LAST-MODIFIED:20260209T125114Z
UID:13765-1771664400-1771693200@kloster-brandenburg.de
SUMMARY:Ausgebucht - E26/12 - Beginne von vorne\, lass das Alte hinter dir
DESCRIPTION:Ausgebucht – Leitung: Dekan Kurt Susak – Beginne von vorne\, lass das Alte hinter dir \nDas Loslassen der Vergangenheit ist eine kraftvolle Handlung\, die es uns ermöglicht\, einen Neuanfang zu wagen. Die Fastenzeit bietet uns hierzu die Chance\, mit Vergangenem abzuschließen. \nWeitere Informationen entnehmen Sie dem Flyer
URL:https://kloster-brandenburg.de/veranstaltung/e26-11-beginne-von-vorne-lass-das-alte-hinter-dir/
LOCATION:Kloster Brandenburg\, Am Schlossberg 3\, 89165 Dietenheim-Regglisweiler\, Deutschland
CATEGORIES:Besinnung,Einkehrtag,Interessierte aller Altersklassen,Tagesveranstaltung
ATTACH;FMTTYPE=image/png:https://kloster-brandenburg.de/wp-content/uploads/2024/11/Veranstaltung-Ausgebucht.png
END:VEVENT
BEGIN:VEVENT
DTSTART;TZID=Europe/Berlin:20260228T090000
DTEND;TZID=Europe/Berlin:20260228T163000
DTSTAMP:20260421T151221
CREATED:20251001T060056Z
LAST-MODIFIED:20260126T104151Z
UID:13767-1772269200-1772296200@kloster-brandenburg.de
SUMMARY:T26/13 - Leben nach einem Suizid im Familien- und Freundeskreis
DESCRIPTION:Leitung: Michaela Grimminger – Leben nach einem Suizid im Familien- und Freundeskreis \nEin Suizid im nahen Umfeld ist ein tiefer Einschnitt. Zur Trauer gesellen sich oft Sprachlosigkeit\, Schuldgefühle\, Scham\, Wut oder das Gefühl\, allein gelassen zu sein. Betroffene stellen sich Fragen nach dem „Warum?“ und ringen damit\, wie das eigene Leben nach einem solchen Verlust weitergehen kann. Zielgruppe:\nAngehörige\, Freunde und nahestehende Personen\, die einen Menschen durch Suizid verloren haben. \nWeitere Informationen entnehmen Sie bitte dem  Flyer
URL:https://kloster-brandenburg.de/veranstaltung/t26-13-leben-nach-einem-suizid-im-familien-und-freundeskreis/
LOCATION:Kloster Brandenburg\, Am Schlossberg 3\, 89165 Dietenheim-Regglisweiler\, Deutschland
CATEGORIES:Einkehrtag,Interessierte aller Altersklassen,Seminare mit Schwerpunktthemen,Tagesveranstaltung,Trauer
ATTACH;FMTTYPE=image/jpeg:https://kloster-brandenburg.de/wp-content/uploads/2025/10/open-book-beautiful-setting-scaled.jpg
END:VEVENT
END:VCALENDAR