BEGIN:VCALENDAR
VERSION:2.0
PRODID:-//Kloster Brandenburg Iller e.V. - ECPv6.15.20//NONSGML v1.0//EN
CALSCALE:GREGORIAN
METHOD:PUBLISH
X-ORIGINAL-URL:https://kloster-brandenburg.de
X-WR-CALDESC:Veranstaltungen für Kloster Brandenburg Iller e.V.
REFRESH-INTERVAL;VALUE=DURATION:PT1H
X-Robots-Tag:noindex
X-PUBLISHED-TTL:PT1H
BEGIN:VTIMEZONE
TZID:Europe/Berlin
BEGIN:DAYLIGHT
TZOFFSETFROM:+0100
TZOFFSETTO:+0200
TZNAME:CEST
DTSTART:20250330T010000
END:DAYLIGHT
BEGIN:STANDARD
TZOFFSETFROM:+0200
TZOFFSETTO:+0100
TZNAME:CET
DTSTART:20251026T010000
END:STANDARD
BEGIN:DAYLIGHT
TZOFFSETFROM:+0100
TZOFFSETTO:+0200
TZNAME:CEST
DTSTART:20260329T010000
END:DAYLIGHT
BEGIN:STANDARD
TZOFFSETFROM:+0200
TZOFFSETTO:+0100
TZNAME:CET
DTSTART:20261025T010000
END:STANDARD
BEGIN:DAYLIGHT
TZOFFSETFROM:+0100
TZOFFSETTO:+0200
TZNAME:CEST
DTSTART:20270328T010000
END:DAYLIGHT
BEGIN:STANDARD
TZOFFSETFROM:+0200
TZOFFSETTO:+0100
TZNAME:CET
DTSTART:20271031T010000
END:STANDARD
BEGIN:DAYLIGHT
TZOFFSETFROM:+0100
TZOFFSETTO:+0200
TZNAME:CEST
DTSTART:20280326T010000
END:DAYLIGHT
BEGIN:STANDARD
TZOFFSETFROM:+0200
TZOFFSETTO:+0100
TZNAME:CET
DTSTART:20281029T010000
END:STANDARD
END:VTIMEZONE
BEGIN:VEVENT
DTSTART;TZID=Europe/Berlin:20260101T080000
DTEND;TZID=Europe/Berlin:20270117T170000
DTSTAMP:20260419T215602
CREATED:20260101T083341Z
LAST-MODIFIED:20260109T091842Z
UID:14059-1767254400-1800205200@kloster-brandenburg.de
SUMMARY:26/001 Pilgertage im Jahr 2026
DESCRIPTION:Zusammenfassung aller Pilgertage im Jahr 2026\, siehe Flyer
URL:https://kloster-brandenburg.de/veranstaltung/26-001-pilgertage-im-jahr-2026/
CATEGORIES:Pilgern
ATTACH;FMTTYPE=image/png:https://kloster-brandenburg.de/wp-content/uploads/2025/12/26_001-Pilgertage_zusammengefasst_Titelbild.png
END:VEVENT
BEGIN:VEVENT
DTSTART;TZID=Europe/Berlin:20260101T080000
DTEND;TZID=Europe/Berlin:20270117T170000
DTSTAMP:20260419T215602
CREATED:20260101T090236Z
LAST-MODIFIED:20260109T091932Z
UID:14064-1767254400-1800205200@kloster-brandenburg.de
SUMMARY:26/002 Naturseminare im Jahr 2026
DESCRIPTION:Zusammenfassung aller Naturseminare im Jahr 2026\, siehe Flyer
URL:https://kloster-brandenburg.de/veranstaltung/26-002-naturseminare-im-jahr-2026/
CATEGORIES:Naturseminare
ATTACH;FMTTYPE=image/png:https://kloster-brandenburg.de/wp-content/uploads/2025/12/26_002-Natur_zusammengefasst_Titelbild-1.png
END:VEVENT
BEGIN:VEVENT
DTSTART;TZID=Europe/Berlin:20260101T080000
DTEND;TZID=Europe/Berlin:20270117T170000
DTSTAMP:20260419T215602
CREATED:20260101T103041Z
LAST-MODIFIED:20260109T092021Z
UID:14069-1767254400-1800205200@kloster-brandenburg.de
SUMMARY:26/003 Trauerseminare im Jahr 2026
DESCRIPTION:Zusammenfassung aller Trauerseminare im Jahr 2026\, siehe  Flyer
URL:https://kloster-brandenburg.de/veranstaltung/26-003-trauerseminare-im-jahr-2026/
CATEGORIES:Trauer
ATTACH;FMTTYPE=image/png:https://kloster-brandenburg.de/wp-content/uploads/2025/12/26_003-Trauer_zusammengefasst.png
END:VEVENT
BEGIN:VEVENT
DTSTART;TZID=Europe/Berlin:20260603T180000
DTEND;TZID=Europe/Berlin:20260607T130000
DTSTAMP:20260419T215602
CREATED:20251001T060002Z
LAST-MODIFIED:20260303T142414Z
UID:13814-1780509600-1780837200@kloster-brandenburg.de
SUMMARY:E26/33 - Heilende Beziehung zum eucharistischen Christus - das eucharistische Wunder
DESCRIPTION:Leitung: Pfr. Dr. lic. theol. Stephan Sproll  – Heilende Beziehung zum eucharistischen Christus – das eucharistische Wunder \nDie heilende Beziehung zum eucharistischen Christus wurzelt im Glauben an die reale Gegenwart Jesu Christi im Sakrament der Eucharistie. In der konsekrierten Hostie ist nicht nur ein Symbol\, sondern Christus selbst gegenwärtig – mit Leib und Blut\, Seele und Gottheit. Diese Gegenwart ist Ausdruck seiner bleibenden Liebe: derselbe Herr\, der am Kreuz sein Herz für die Menschen geöffnet hat\, schenkt sich im Altarsakrament immer neu. In der Betrachtung des „Herz Jesu in der Agonie“ wird besonders deutlich\, dass die Eucharistie untrennbar mit dem Opfer von Golgotha verbunden ist – ein Opfer\, das aus Liebe dargebracht wurde und bis heute geistliche Heilung\, Trost und Erneuerung schenkt. \nWeitere Informationen entnehmen Sie bitte dem Flyer
URL:https://kloster-brandenburg.de/veranstaltung/e26-33-heilende-beziehung-zum-eucharistischen-christus-das-eucharistische-wunder/
LOCATION:Kloster Brandenburg\, Am Schlossberg 3\, 89165 Dietenheim-Regglisweiler\, Deutschland
CATEGORIES:Exerzitien,Interessierte aller Altersklassen
ATTACH;FMTTYPE=image/png:https://kloster-brandenburg.de/wp-content/uploads/2025/10/26_33-Heilende-Beziehungen_Pfr.-Stephan-Sproll_Titelbild.png
END:VEVENT
BEGIN:VEVENT
DTSTART;TZID=Europe/Berlin:20260605T083000
DTEND;TZID=Europe/Berlin:20260607T170000
DTSTAMP:20260419T215602
CREATED:20251001T060038Z
LAST-MODIFIED:20260209T102559Z
UID:13816-1780648200-1780851600@kloster-brandenburg.de
SUMMARY:P26/34 - Pilgerradtour
DESCRIPTION:Leitung: Hanne Stroppel in Begleitung von Robert Ball und  Sr. M. Stephanie Rauch ISA – Pilgerradtour \nFür geübte E-Bike-Fahrer\, ca. 80 km täglich. Teilnahme ist nur mit Übernachtung im Kloster möglich. \nWeitere Informationen entnehmen  Sie bitte dem  Flyer
URL:https://kloster-brandenburg.de/veranstaltung/p26-34-pilgerradtour/
LOCATION:Kloster Brandenburg\, Am Schlossberg 3\, 89165 Dietenheim-Regglisweiler\, Deutschland
CATEGORIES:Interessierte aller Altersklassen,Pilgerradtour
ATTACH;FMTTYPE=image/png:https://kloster-brandenburg.de/wp-content/uploads/2024/11/25_39-Pilgerradtour_Hannelore-Stroppel_Robert-Ball_Titelbild.png
END:VEVENT
BEGIN:VEVENT
DTSTART;TZID=Europe/Berlin:20260612T180000
DTEND;TZID=Europe/Berlin:20260614T130000
DTSTAMP:20260419T215602
CREATED:20251001T060044Z
LAST-MODIFIED:20260210T095619Z
UID:13818-1781287200-1781442000@kloster-brandenburg.de
SUMMARY:E26/35 -Beten mit Marthe Robin
DESCRIPTION:Leitung: P. Wolfgang Sütterlin SDS – Beten mit Marthe Robin \nMarthe Robin (1902 – 1981) gehört zu den interessantesten Gestalten des Christentums im 20. Jahrhundert. Eine Erkrankung fesselte sie jahrzehntelang ans Bett. Dennoch war sie unzähligen Menschen eine aufgeweckte\, humorvolle\, stets aufmunternde Begleiterin.\nSie gründete die Foyers de Charité\, eine Gemeinschaft\, die – kirchlich anerkannt – in vielen Ländern vertreten ist. Wer ihr Tagebuch liest\, entdeckt eine Person\, deren am persönlichen Weg gereifte Christusbeziehung sich ganz wesentlich aus dem Gebet nährte. Ihr Beten war offensiv und intensiv\, dann aber auch still und innerlich. An Maria wandte sie sich\, um in ihrer Hingabe immer noch tiefer zu werden. Der Wiener Kardinal Schönborn hat einmal geschrieben\, man könne die Bedeutung von Marthe Robin für die Erneuerung der Kirche nicht hoch genug einschätzen. Dem wollen wir im Blick auf ihr Beten nachspüren. \nWeitere Informationen entnehmen Sie dem Flyer
URL:https://kloster-brandenburg.de/veranstaltung/e26-35-beten-mit-marthe-robin/
LOCATION:Kloster Brandenburg\, Am Schlossberg 3\, 89165 Dietenheim-Regglisweiler\, Deutschland
CATEGORIES:Exerzitien,Interessierte aller Altersklassen,Schweigeexerzitien
ATTACH;FMTTYPE=image/png:https://kloster-brandenburg.de/wp-content/uploads/2025/10/26_35-Beten-mit-Marthe-Robin_P.-Wolfgang-Suetterlin-SDS_Titelbild1.png
END:VEVENT
BEGIN:VEVENT
DTSTART;TZID=Europe/Berlin:20260612T180000
DTEND;TZID=Europe/Berlin:20260614T130000
DTSTAMP:20260419T215602
CREATED:20260126T092957Z
LAST-MODIFIED:20260126T131014Z
UID:14292-1781287200-1781442000@kloster-brandenburg.de
SUMMARY:S 26/71 Wie fühlt sich Kloster an? - Kennenlerntage im Kloster Brandenburg
DESCRIPTION:Leitung: Sr. Gabriela Maria Schröer und Sr. Regina Maria Schmalz – Wie fühlt sich Kloster an? komm und sieh! (Joh. 1\,39)\nFür junge Frauen zwischen 16 und 45 Jahren \n„Leben in der franziskanisch marianischen Klostergemeinschaft ist: schön\, herausfordernd\, lebendig\, tiefgründig\, sinnvoll\, überraschend\, erfüllend. Es ist alles – aber niemals langweilig. Ständen wir wieder vor der Entscheidung ins Kloster einzutreten – wir würden es wieder tun“ \nWillst Du wissen\, wie sich Klosterleben anfühlt? Dann komm und sieh! Wir laden Dich herzlich ein zwei Tage mit uns zu verbringen. \nWeitere Informationen entnehmen Sie bitte dem Flyer \n 
URL:https://kloster-brandenburg.de/veranstaltung/s-26-71-wie-fuehlt-sich-kloster-an-kennenlerntage-im-kloster-brandenburg/
LOCATION:Kloster Brandenburg\, Am Schlossberg 3\, 89165 Dietenheim-Regglisweiler\, Deutschland
CATEGORIES:Angebot für Frauen,Angebote für Mädchen und junge Frauen,Seminare mit Schwerpunktthemen,Singles
ATTACH;FMTTYPE=image/jpeg:https://kloster-brandenburg.de/wp-content/uploads/2026/01/26_71-Kennenlernwochenende_Juni_Sr.-Gabriela-Maria_Sr.-Regina-Maria_Titelbild-von-Sr.-Gabriela-Maria.jpg
END:VEVENT
BEGIN:VEVENT
DTSTART;TZID=Europe/Berlin:20260619T180000
DTEND;TZID=Europe/Berlin:20260621T130000
DTSTAMP:20260419T215602
CREATED:20251001T060015Z
LAST-MODIFIED:20260209T162134Z
UID:13820-1781892000-1782046800@kloster-brandenburg.de
SUMMARY:E26/36 - Königstöchter - würdevoll und frei
DESCRIPTION:Leitung: Mara Kurzrock in Begleitung von Dr. Anna Beraldi – Königstöchter – würdevoll und frei \nAn diesem Wochenende möchten wir Frauen dazu einladen\, ihre Würde als Töchter Gottes  (wieder neu) zu entdecken. Unter dem liebenden Blick des Vaters wollen wir uns gemeinsam auf den heilsamen Weg in die Freiheit der Kinder Gottes begeben. \nHierfür machen wir uns auch auf die Suche nach möglichen Heilsblockaden und ungesunden Mustern und wollen uns für den weiteren Lebensweg besser „rüsten“ lernen. \nWeitere Informationen entnehmen Sie bitte dem Flyer
URL:https://kloster-brandenburg.de/veranstaltung/e26-36-koenigstoechter-wuerdevoll-und-frei/
LOCATION:Kloster Brandenburg\, Am Schlossberg 3\, 89165 Dietenheim-Regglisweiler\, Deutschland
CATEGORIES:Angebot für Frauen,Exerzitien,Seminare mit Schwerpunktthemen
ATTACH;FMTTYPE=image/jpeg:https://kloster-brandenburg.de/wp-content/uploads/2024/11/25_16-Koenigstoechter_Titelbild.jpg
END:VEVENT
BEGIN:VEVENT
DTSTART;TZID=Europe/Berlin:20260620T090000
DTEND;TZID=Europe/Berlin:20260620T170000
DTSTAMP:20260419T215602
CREATED:20251001T060045Z
LAST-MODIFIED:20260130T120821Z
UID:13822-1781946000-1781974800@kloster-brandenburg.de
SUMMARY:N26/37 - Wilde Sommerkräuter-Sonnenenergie für Leib und Seele
DESCRIPTION:Leitung: Ernestine Verdura – Wilde Sommerkräuter-Sonnenenergie für Leib und Seele \nLicht und Wärme der heißen Tage lassen unsere Sommerpflanzen wachsen und reifen. Hier entstehen besonders viele der ätherischen Öle und andere wertvolle Inhaltsstoffe in unseren heimischen Wildkräutern. Wir können sie zu kulinarischen Köstlichkeiten verarbeiten oder zu Heilzwecken einsetzen. \nWeitere Informationen entnehmen Sie bitte  Flyer
URL:https://kloster-brandenburg.de/veranstaltung/n26-37-wilde-sommerkraeuter-sonnenenergie-fuer-leib-und-seele/
LOCATION:Kloster Brandenburg\, Am Schlossberg 3\, 89165 Dietenheim-Regglisweiler\, Deutschland
CATEGORIES:Einkehrtag,Seminare mit Schwerpunktthemen,Tagesveranstaltung
ATTACH;FMTTYPE=image/png:https://kloster-brandenburg.de/wp-content/uploads/2024/11/25_45-Wilde-Sommerkraeuter_Ernestine-Verdura_Titelbild.png
END:VEVENT
BEGIN:VEVENT
DTSTART;TZID=Europe/Berlin:20260624T180000
DTEND;TZID=Europe/Berlin:20260628T130000
DTSTAMP:20260419T215602
CREATED:20251001T060001Z
LAST-MODIFIED:20260108T105907Z
UID:13824-1782324000-1782651600@kloster-brandenburg.de
SUMMARY:E26/38 - Leben in Gottes Gegenwart
DESCRIPTION:Leitung: P. Leonhard Wetterich OFM und Seelsorgeteam- Leben in Gottes Gegenwart \nLeben in Gottes Gegenwart bringt uns dazu Jesus und sein Vater\, immer besser kennen und lieben zu lernen.\nSo wachsen wir in die Gotteskindschaft\, und in die Liebesvereinigung mit Gott.\nDas bewirkt in uns Segen und Heil. vgl. 1 Johannes 3\, 1-10 \nSchweigen nach Ansage. \nWeitere Informationen entnehmen Sie bitte dem  Flyer
URL:https://kloster-brandenburg.de/veranstaltung/e26-38-leben-in-gottes-gegenwart/
LOCATION:Kloster Brandenburg\, Am Schlossberg 3\, 89165 Dietenheim-Regglisweiler\, Deutschland
CATEGORIES:Exerzitien,Interessierte aller Altersklassen,Schweigen nach Ansage
ATTACH;FMTTYPE=image/jpeg:https://kloster-brandenburg.de/wp-content/uploads/2025/10/freepik_das-leben-der-kinder-im-alten-griechenland-scaled.jpg
END:VEVENT
END:VCALENDAR