BEGIN:VCALENDAR
VERSION:2.0
PRODID:-//Kloster Brandenburg Iller e.V. - ECPv6.15.20//NONSGML v1.0//EN
CALSCALE:GREGORIAN
METHOD:PUBLISH
X-WR-CALNAME:Kloster Brandenburg Iller e.V.
X-ORIGINAL-URL:https://kloster-brandenburg.de
X-WR-CALDESC:Veranstaltungen für Kloster Brandenburg Iller e.V.
REFRESH-INTERVAL;VALUE=DURATION:PT1H
X-Robots-Tag:noindex
X-PUBLISHED-TTL:PT1H
BEGIN:VTIMEZONE
TZID:Europe/Berlin
BEGIN:DAYLIGHT
TZOFFSETFROM:+0100
TZOFFSETTO:+0200
TZNAME:CEST
DTSTART:20250330T010000
END:DAYLIGHT
BEGIN:STANDARD
TZOFFSETFROM:+0200
TZOFFSETTO:+0100
TZNAME:CET
DTSTART:20251026T010000
END:STANDARD
BEGIN:DAYLIGHT
TZOFFSETFROM:+0100
TZOFFSETTO:+0200
TZNAME:CEST
DTSTART:20260329T010000
END:DAYLIGHT
BEGIN:STANDARD
TZOFFSETFROM:+0200
TZOFFSETTO:+0100
TZNAME:CET
DTSTART:20261025T010000
END:STANDARD
BEGIN:DAYLIGHT
TZOFFSETFROM:+0100
TZOFFSETTO:+0200
TZNAME:CEST
DTSTART:20270328T010000
END:DAYLIGHT
BEGIN:STANDARD
TZOFFSETFROM:+0200
TZOFFSETTO:+0100
TZNAME:CET
DTSTART:20271031T010000
END:STANDARD
BEGIN:DAYLIGHT
TZOFFSETFROM:+0100
TZOFFSETTO:+0200
TZNAME:CEST
DTSTART:20280326T010000
END:DAYLIGHT
BEGIN:STANDARD
TZOFFSETFROM:+0200
TZOFFSETTO:+0100
TZNAME:CET
DTSTART:20281029T010000
END:STANDARD
END:VTIMEZONE
BEGIN:VEVENT
DTSTART;TZID=Europe/Berlin:20260101T080000
DTEND;TZID=Europe/Berlin:20270117T170000
DTSTAMP:20260419T215217
CREATED:20260101T083341Z
LAST-MODIFIED:20260109T091842Z
UID:14059-1767254400-1800205200@kloster-brandenburg.de
SUMMARY:26/001 Pilgertage im Jahr 2026
DESCRIPTION:Zusammenfassung aller Pilgertage im Jahr 2026\, siehe Flyer
URL:https://kloster-brandenburg.de/veranstaltung/26-001-pilgertage-im-jahr-2026/
CATEGORIES:Pilgern
ATTACH;FMTTYPE=image/png:https://kloster-brandenburg.de/wp-content/uploads/2025/12/26_001-Pilgertage_zusammengefasst_Titelbild.png
END:VEVENT
BEGIN:VEVENT
DTSTART;TZID=Europe/Berlin:20260101T080000
DTEND;TZID=Europe/Berlin:20270117T170000
DTSTAMP:20260419T215217
CREATED:20260101T090236Z
LAST-MODIFIED:20260109T091932Z
UID:14064-1767254400-1800205200@kloster-brandenburg.de
SUMMARY:26/002 Naturseminare im Jahr 2026
DESCRIPTION:Zusammenfassung aller Naturseminare im Jahr 2026\, siehe Flyer
URL:https://kloster-brandenburg.de/veranstaltung/26-002-naturseminare-im-jahr-2026/
CATEGORIES:Naturseminare
ATTACH;FMTTYPE=image/png:https://kloster-brandenburg.de/wp-content/uploads/2025/12/26_002-Natur_zusammengefasst_Titelbild-1.png
END:VEVENT
BEGIN:VEVENT
DTSTART;TZID=Europe/Berlin:20260101T080000
DTEND;TZID=Europe/Berlin:20270117T170000
DTSTAMP:20260419T215217
CREATED:20260101T103041Z
LAST-MODIFIED:20260109T092021Z
UID:14069-1767254400-1800205200@kloster-brandenburg.de
SUMMARY:26/003 Trauerseminare im Jahr 2026
DESCRIPTION:Zusammenfassung aller Trauerseminare im Jahr 2026\, siehe  Flyer
URL:https://kloster-brandenburg.de/veranstaltung/26-003-trauerseminare-im-jahr-2026/
CATEGORIES:Trauer
ATTACH;FMTTYPE=image/png:https://kloster-brandenburg.de/wp-content/uploads/2025/12/26_003-Trauer_zusammengefasst.png
END:VEVENT
BEGIN:VEVENT
DTSTART;TZID=Europe/Berlin:20260702T180000
DTEND;TZID=Europe/Berlin:20260705T130000
DTSTAMP:20260419T215217
CREATED:20251001T060038Z
LAST-MODIFIED:20260210T101448Z
UID:13826-1783015200-1783256400@kloster-brandenburg.de
SUMMARY:E26/39 - Jesus führt Dich zum himmlischen Vater\, der Dich liebt und auf Dich wartet
DESCRIPTION:Leitung: DDr. Gottfried Prenner – Jesus führt Dich zum himmlischen Vater\, der Dich liebt und auf Dich wartet \nDie größte Freude Jesu ist\, wenn wir zum Vater kommen. Denn er hat uns den Weg zu ihm geöffnet. Unser Vater hat die größte Freude mit seinen Kindern zu sein\, die er mit großer Liebe geschaffen hat. Er begleitet unser Leben und beschenkt uns mit allem\, was wir brauchen. Wenn wir ihm nur unser Herz öffnen\, beginnt eine tiefe Beziehung mit ihm\, in der er uns heilt und alles in uns neu macht. So wollen wir in diesem Seminar die Liebe des Vaters tiefer kennenlernen und uns von ihm beschenken lassen. \nWeitere Informationen entnehmen Sie bitte dem  Flyer
URL:https://kloster-brandenburg.de/veranstaltung/e26-39-jesus-fuehrt-dich-zum-himmlischen-vater-der-dich-liebt-und-auf-dich-wartet/
LOCATION:Kloster Brandenburg\, Am Schlossberg 3\, 89165 Dietenheim-Regglisweiler\, Deutschland
CATEGORIES:Exerzitien,Interessierte aller Altersklassen
ATTACH;FMTTYPE=image/jpeg:https://kloster-brandenburg.de/wp-content/uploads/2025/10/Titelbild-von-Herr-DDr.Prenner.jpg
END:VEVENT
BEGIN:VEVENT
DTSTART;TZID=Europe/Berlin:20260704T100000
DTEND;TZID=Europe/Berlin:20260704T170000
DTSTAMP:20260419T215217
CREATED:20251001T060039Z
LAST-MODIFIED:20260108T110328Z
UID:13828-1783159200-1783184400@kloster-brandenburg.de
SUMMARY:E26/40 - Heilungsgebetstag
DESCRIPTION:Leitung: Priester und Seelsorgeteam – Heilungsgebetstag \nWeitere Informationen entnehmen Sie bitte dem  Flyer
URL:https://kloster-brandenburg.de/veranstaltung/e26-40-heilungsgebetstag/
LOCATION:Kloster Brandenburg\, Am Schlossberg 3\, 89165 Dietenheim-Regglisweiler\, Deutschland
CATEGORIES:Heilungsgebetstag,Interessierte aller Altersklassen,Tagesveranstaltung
ATTACH;FMTTYPE=image/jpeg:https://kloster-brandenburg.de/wp-content/uploads/2024/11/25_3-Heilungsgebetstag-Januar_Priester-u.-Seelsogeteam_Titelbild.jpg
END:VEVENT
BEGIN:VEVENT
DTSTART;TZID=Europe/Berlin:20260709T180000
DTEND;TZID=Europe/Berlin:20260712T130000
DTSTAMP:20260419T215217
CREATED:20251001T060032Z
LAST-MODIFIED:20260210T102621Z
UID:13831-1783620000-1783861200@kloster-brandenburg.de
SUMMARY:E26/41 -  Im Geist und in der Wahrheit (Joh. 4\,24) - Das Innere Gebet nach Paul vom Kreuz
DESCRIPTION:Leitung: P. Gregor Lenzen CP – Im Geist und in der Wahrheit (Joh. 4\,24)  \nDiese geistlichen Tage sind eine Einladung zur Begegnung mit einem im deutschen Sprachraum relativ unbekannten italienischen Mystiker des 18. Jahrhunderts. \nPaul vom Kreuz (1694 – 1775) ist der Ordensgründer der Passionisten und war in der Epoche der Aufklärung einer der berühmtesten Volksmissionare Italiens. \nSein Predigtapostolat wurde genährt von einer tiefen Innerlichkeitsmystik. Quellen seiner Geistlichen Lehre über das innere Gebet sind – neben seinem Geistlichen Tagebuch – vor allem die zahlreichen Briefe zur Seelenführung\, die er an Menschen unterschiedlichsten Alters und Lebensstandes gerichtet hat. \nDiese im Deutschen kaum erschlossenen Schriften eines großen katholischen Mystikers enthalten in ihrer kraftvollen symbolischen Sprache manche Überraschungen und neue Einblicke auf dem Weg zur inneren Vereinigung mit Gott. \nWeitere Informationen entnehmen Sie bitte dem Flyer
URL:https://kloster-brandenburg.de/veranstaltung/e26-41-im-geist-und-in-der-wahrheit-joh-424/
LOCATION:Kloster Brandenburg\, Am Schlossberg 3\, 89165 Dietenheim-Regglisweiler\, Deutschland
CATEGORIES:Exerzitien,Interessierte aller Altersklassen
ATTACH;FMTTYPE=image/jpeg:https://kloster-brandenburg.de/wp-content/uploads/2025/10/26_41-Paul-v.-Kreuz_P.Gregor-Lenzen-CP.jpg
END:VEVENT
BEGIN:VEVENT
DTSTART;TZID=Europe/Berlin:20260710T150000
DTEND;TZID=Europe/Berlin:20260712T130000
DTSTAMP:20260419T215217
CREATED:20251001T060039Z
LAST-MODIFIED:20260210T103124Z
UID:13833-1783695600-1783861200@kloster-brandenburg.de
SUMMARY:T26/42 - Und plötzlich ist alles anders ...
DESCRIPTION:Leitung: Stefan Bitzer – Und plötzlich ist alles anders … \nDer Verlust des geliebten Menschen stellt das Leben auf den Kopf und verändert es dramatisch. Beziehungen müssen neu sortiert werden und auch sich selbst gilt es\, ganz neu zu finden und die eigene Rolle neu zu definieren. In einer geschlossenen Gruppe können Erfahrungen ausgetauscht werden. \nWeitere Informationen entnehmen Sie bitte dem  Flyer \n 
URL:https://kloster-brandenburg.de/veranstaltung/t26-42-und-ploetzlich-ist-alles-anders/
LOCATION:Kloster Brandenburg\, Am Schlossberg 3\, 89165 Dietenheim-Regglisweiler\, Deutschland
CATEGORIES:Interessierte aller Altersklassen,Seminare mit Schwerpunktthemen,Trauer
ATTACH;FMTTYPE=image/png:https://kloster-brandenburg.de/wp-content/uploads/2024/11/25_46-Ploetzlich-ist-alles-anders_Bitzer-Stefan_Titelbild.png
END:VEVENT
BEGIN:VEVENT
DTSTART;TZID=Europe/Berlin:20260726T180000
DTEND;TZID=Europe/Berlin:20260801T130000
DTSTAMP:20260419T215217
CREATED:20251001T060039Z
LAST-MODIFIED:20260108T120809Z
UID:13837-1785088800-1785589200@kloster-brandenburg.de
SUMMARY:E26/43 - IN SINU JESU (Joh 13\,25) - Mit Jesus - vor Jesus
DESCRIPTION:Leitung: P. Dr. Willibrord Driever OSB – IN SINU JESU (Joh 13\,25) – Mit Jesus – vor Jesus \nJeder Teilnehmer ist viermal eine Stunde vor dem eucharistischen Christus und verweilt in seinem eucharistischen Licht an seinem eucharistischen Herzen. Tägliches Begleitgespräch und Reflexion der Gebetserfahrung. \nWeitere Informationen entnehmen Sie bitte dem Flyer
URL:https://kloster-brandenburg.de/veranstaltung/e26-43-in-sinu-jesu-joh-1325-mit-jesus-vor-jesus/
LOCATION:Kloster Brandenburg\, Am Schlossberg 3\, 89165 Dietenheim-Regglisweiler\, Deutschland
CATEGORIES:Besinnung,Exerzitien für Priester- u. Ordensleute,Interessierte aller Altersklassen,Schweigeexerzitien
ATTACH;FMTTYPE=image/png:https://kloster-brandenburg.de/wp-content/uploads/2024/11/25_49-In-Sinu-Jesu_P.-Willibrord-Driever_Titelbild.png
END:VEVENT
END:VCALENDAR